Package: LPE Version: 1.80.0 Command: /Library/Frameworks/R.framework/Resources/bin/R CMD INSTALL LPE StartedAt: 2025-02-03 15:11:35 -0500 (Mon, 03 Feb 2025) EndedAt: 2025-02-03 15:11:38 -0500 (Mon, 03 Feb 2025) EllapsedTime: 3.1 seconds RetCode: 0 Status: OK