Package: LPE Version: 1.80.0 Command: rm -rf LPE.buildbin-libdir && mkdir LPE.buildbin-libdir && F:\biocbuild\bbs-3.20-bioc\R\bin\R.exe CMD INSTALL --build --library=LPE.buildbin-libdir LPE_1.80.0.tar.gz StartedAt: 2025-02-04 08:49:21 -0500 (Tue, 04 Feb 2025) EndedAt: 2025-02-04 08:49:30 -0500 (Tue, 04 Feb 2025) EllapsedTime: 9.2 seconds RetCode: 0 Status: OK PackageFile: LPE_1.80.0.zip PackageFileSize: 371.7 KiB