Package: LPE Version: 1.80.0 Command: chmod a+r LPE -R && F:\biocbuild\bbs-3.20-bioc\R\bin\R.exe CMD build --keep-empty-dirs --no-resave-data LPE StartedAt: 2025-02-03 20:04:19 -0500 (Mon, 03 Feb 2025) EndedAt: 2025-02-03 20:04:41 -0500 (Mon, 03 Feb 2025) EllapsedTime: 21.9 seconds RetCode: 0 Status: OK PackageFile: LPE_1.80.0.tar.gz PackageFileSize: 295.4 KiB