Package: LRcell Version: 1.14.0 Command: /Library/Frameworks/R.framework/Resources/bin/R CMD check --install=check:LRcell.install-out.txt --library=/Library/Frameworks/R.framework/Resources/library --no-vignettes --timings LRcell_1.14.0.tar.gz StartedAt: 2025-02-04 05:41:43 -0500 (Tue, 04 Feb 2025) EndedAt: 2025-02-04 05:47:05 -0500 (Tue, 04 Feb 2025) EllapsedTime: 322.1 seconds RetCode: 0 Status: OK CheckDir: LRcell.Rcheck Warnings: 0