Package: LRcell Version: 1.14.0 Command: /home/biocbuild/R/R/bin/R CMD check --install=check:LRcell.install-out.txt --library=/home/biocbuild/R/R/site-library --no-vignettes --timings LRcell_1.14.0.tar.gz StartedAt: 2025-02-04 08:22:20 -0000 (Tue, 04 Feb 2025) EndedAt: 2025-02-04 08:25:24 -0000 (Tue, 04 Feb 2025) EllapsedTime: 184.4 seconds RetCode: 0 Status: OK CheckDir: LRcell.Rcheck Warnings: 0