Package: LedPred Version: 1.40.0 Command: /Library/Frameworks/R.framework/Resources/bin/R CMD build --keep-empty-dirs --no-resave-data LedPred StartedAt: 2025-02-04 02:14:58 -0500 (Tue, 04 Feb 2025) EndedAt: 2025-02-04 02:15:27 -0500 (Tue, 04 Feb 2025) EllapsedTime: 28.2 seconds RetCode: 0 Status: OK PackageFile: LedPred_1.40.0.tar.gz PackageFileSize: 1.463 MiB