Package: LedPred Version: 1.40.0 Command: /Library/Frameworks/R.framework/Resources/bin/R CMD INSTALL LedPred StartedAt: 2025-02-03 17:00:05 -0500 (Mon, 03 Feb 2025) EndedAt: 2025-02-03 17:00:17 -0500 (Mon, 03 Feb 2025) EllapsedTime: 11.5 seconds RetCode: 0 Status: OK