Package: LedPred Version: 1.40.0 Command: /home/biocbuild/R/R/bin/R CMD check --install=check:LedPred.install-out.txt --library=/home/biocbuild/R/R/site-library --no-vignettes --timings LedPred_1.40.0.tar.gz StartedAt: 2025-02-04 08:18:30 -0000 (Tue, 04 Feb 2025) EndedAt: 2025-02-04 08:19:26 -0000 (Tue, 04 Feb 2025) EllapsedTime: 56.1 seconds RetCode: 0 Status: WARNINGS CheckDir: LedPred.Rcheck Warnings: 1