Package: LinTInd
Version: 1.10.0
Command: /home/biocbuild/R/R/bin/R CMD check --install=check:LinTInd.install-out.txt --library=/home/biocbuild/R/R/site-library --no-vignettes --timings LinTInd_1.10.0.tar.gz
StartedAt: 2025-02-14 08:07:55 -0000 (Fri, 14 Feb 2025)
EndedAt: 2025-02-14 08:10:23 -0000 (Fri, 14 Feb 2025)
EllapsedTime: 148.2 seconds
RetCode: 0
Status: OK
CheckDir: LinTInd.Rcheck
Warnings: 0