Package: LinkHD Version: 1.20.0 Command: rm -rf LinkHD.buildbin-libdir && mkdir LinkHD.buildbin-libdir && /Users/biocbuild/BBS/utils/build-universal.sh LinkHD_1.20.0.tar.gz /Library/Frameworks/R.framework/Resources/bin/R LinkHD.buildbin-libdir StartedAt: 2025-02-05 16:25:41 -0500 (Wed, 05 Feb 2025) EndedAt: 2025-02-05 16:26:16 -0500 (Wed, 05 Feb 2025) EllapsedTime: 34.6 seconds RetCode: 0 Status: OK PackageFile: LinkHD_1.20.0.tgz PackageFileSize: 2.088 MiB