Package: LinkHD Version: 1.20.0 Command: /home/biocbuild/R/R/bin/R CMD build --keep-empty-dirs --no-resave-data LinkHD StartedAt: 2025-02-04 00:34:24 -0000 (Tue, 04 Feb 2025) EndedAt: 2025-02-04 00:35:45 -0000 (Tue, 04 Feb 2025) EllapsedTime: 81.0 seconds RetCode: 0 Status: OK PackageFile: LinkHD_1.20.0.tar.gz PackageFileSize: 1.898 MiB