Package: Linnorm Version: 2.30.0 Command: /Library/Frameworks/R.framework/Resources/bin/R CMD check --install=check:Linnorm.install-out.txt --library=/Library/Frameworks/R.framework/Resources/library --no-vignettes --timings Linnorm_2.30.0.tar.gz StartedAt: 2025-02-04 23:55:56 -0500 (Tue, 04 Feb 2025) EndedAt: 2025-02-05 00:05:22 -0500 (Wed, 05 Feb 2025) EllapsedTime: 566.0 seconds RetCode: 0 Status: OK CheckDir: Linnorm.Rcheck Warnings: 0