Package: Linnorm Version: 2.30.0 Command: rm -rf Linnorm.buildbin-libdir && mkdir Linnorm.buildbin-libdir && /Users/biocbuild/BBS/utils/build-universal.sh Linnorm_2.30.0.tar.gz /Library/Frameworks/R.framework/Resources/bin/R Linnorm.buildbin-libdir StartedAt: 2025-02-04 13:17:02 -0500 (Tue, 04 Feb 2025) EndedAt: 2025-02-04 13:18:40 -0500 (Tue, 04 Feb 2025) EllapsedTime: 98.1 seconds RetCode: 0 Status: OK PackageFile: Linnorm_2.30.0.tgz PackageFileSize: 4.293 MiB