Package: Linnorm Version: 2.30.0 Command: /home/biocbuild/bbs-3.20-bioc/R/bin/R CMD check --install=check:Linnorm.install-out.txt --library=/home/biocbuild/bbs-3.20-bioc/R/site-library --timings Linnorm_2.30.0.tar.gz StartedAt: 2025-02-03 23:39:06 -0500 (Mon, 03 Feb 2025) EndedAt: 2025-02-03 23:47:45 -0500 (Mon, 03 Feb 2025) EllapsedTime: 518.7 seconds RetCode: 0 Status: OK CheckDir: Linnorm.Rcheck Warnings: 0