Package: Linnorm Version: 2.30.0 Command: /home/biocbuild/bbs-3.20-bioc/R/bin/R CMD INSTALL Linnorm StartedAt: 2025-02-03 15:18:54 -0500 (Mon, 03 Feb 2025) EndedAt: 2025-02-03 15:19:15 -0500 (Mon, 03 Feb 2025) EllapsedTime: 20.2 seconds RetCode: 0 Status: OK