Package: LoomExperiment Version: 1.24.0 Command: /Library/Frameworks/R.framework/Resources/bin/R CMD check --install=check:LoomExperiment.install-out.txt --library=/Library/Frameworks/R.framework/Resources/library --no-vignettes --timings LoomExperiment_1.24.0.tar.gz StartedAt: 2025-02-05 00:07:55 -0500 (Wed, 05 Feb 2025) EndedAt: 2025-02-05 00:15:18 -0500 (Wed, 05 Feb 2025) EllapsedTime: 443.3 seconds RetCode: 0 Status: OK CheckDir: LoomExperiment.Rcheck Warnings: 0