Package: LoomExperiment Version: 1.24.0 Command: /Library/Frameworks/R.framework/Resources/bin/R CMD build --keep-empty-dirs --no-resave-data LoomExperiment StartedAt: 2024-11-08 17:54:10 -0500 (Fri, 08 Nov 2024) EndedAt: 2024-11-08 17:54:26 -0500 (Fri, 08 Nov 2024) EllapsedTime: 16.2 seconds RetCode: 0 Status: OK PackageFile: LoomExperiment_1.24.0.tar.gz PackageFileSize: 252.9 KiB