Package: LoomExperiment Version: 1.24.0 Command: /Library/Frameworks/R.framework/Resources/bin/R CMD build --keep-empty-dirs --no-resave-data LoomExperiment StartedAt: 2025-02-03 19:57:49 -0500 (Mon, 03 Feb 2025) EndedAt: 2025-02-03 19:59:21 -0500 (Mon, 03 Feb 2025) EllapsedTime: 91.1 seconds RetCode: 0 Status: OK PackageFile: LoomExperiment_1.24.0.tar.gz PackageFileSize: 252.9 KiB