Package: LoomExperiment Version: 1.24.0 Command: /home/biocbuild/bbs-3.20-bioc/R/bin/R CMD check --install=check:LoomExperiment.install-out.txt --library=/home/biocbuild/bbs-3.20-bioc/R/site-library --timings LoomExperiment_1.24.0.tar.gz StartedAt: 2025-02-03 23:41:22 -0500 (Mon, 03 Feb 2025) EndedAt: 2025-02-03 23:44:44 -0500 (Mon, 03 Feb 2025) EllapsedTime: 201.3 seconds RetCode: 0 Status: OK CheckDir: LoomExperiment.Rcheck Warnings: 0