Package: LoomExperiment Version: 1.24.0 Command: /home/biocbuild/bbs-3.20-bioc/R/bin/R CMD INSTALL LoomExperiment StartedAt: 2025-02-03 15:22:04 -0500 (Mon, 03 Feb 2025) EndedAt: 2025-02-03 15:22:30 -0500 (Mon, 03 Feb 2025) EllapsedTime: 25.9 seconds RetCode: 0 Status: OK