Package: LoomExperiment Version: 1.24.0 Command: rm -rf LoomExperiment.buildbin-libdir && mkdir LoomExperiment.buildbin-libdir && F:\biocbuild\bbs-3.20-bioc\R\bin\R.exe CMD INSTALL --build --library=LoomExperiment.buildbin-libdir LoomExperiment_1.24.0.tar.gz StartedAt: 2025-02-04 08:49:17 -0500 (Tue, 04 Feb 2025) EndedAt: 2025-02-04 08:51:32 -0500 (Tue, 04 Feb 2025) EllapsedTime: 135.3 seconds RetCode: 0 Status: OK PackageFile: LoomExperiment_1.24.0.zip PackageFileSize: 873.1 KiB