Package: LoomExperiment Version: 1.24.0 Command: chmod a+r LoomExperiment -R && F:\biocbuild\bbs-3.20-bioc\R\bin\R.exe CMD build --keep-empty-dirs --no-resave-data LoomExperiment StartedAt: 2025-02-03 20:04:15 -0500 (Mon, 03 Feb 2025) EndedAt: 2025-02-03 20:05:34 -0500 (Mon, 03 Feb 2025) EllapsedTime: 79.2 seconds RetCode: 0 Status: OK PackageFile: LoomExperiment_1.24.0.tar.gz PackageFileSize: 253 KiB