Package: LoomExperiment
Version: 1.24.0
Command: /home/biocbuild/bbs-3.20-bioc/R/bin/R CMD build --keep-empty-dirs --no-resave-data LoomExperiment
StartedAt: 2024-11-19 19:46:08 -0500 (Tue, 19 Nov 2024)
EndedAt: 2024-11-19 19:46:59 -0500 (Tue, 19 Nov 2024)
EllapsedTime: 51.3 seconds
RetCode: 0
Status: OK
PackageFile: LoomExperiment_1.24.0.tar.gz
PackageFileSize: 253 <A href="http://en.wikipedia.org/wiki/KiB" target="_blank">KiB</A>