Package: LymphoSeq Version: 1.34.0 Command: rm -rf LymphoSeq.buildbin-libdir && mkdir LymphoSeq.buildbin-libdir && /Users/biocbuild/BBS/utils/build-universal.sh LymphoSeq_1.34.0.tar.gz /Library/Frameworks/R.framework/Resources/bin/R LymphoSeq.buildbin-libdir StartedAt: 2025-02-05 16:27:05 -0500 (Wed, 05 Feb 2025) EndedAt: 2025-02-05 16:27:30 -0500 (Wed, 05 Feb 2025) EllapsedTime: 24.9 seconds RetCode: 0 Status: OK PackageFile: LymphoSeq_1.34.0.tgz PackageFileSize: 2.486 MiB