Package: LymphoSeq Version: 1.34.0 Command: /Library/Frameworks/R.framework/Resources/bin/R CMD check --install=check:LymphoSeq.install-out.txt --library=/Library/Frameworks/R.framework/Resources/library --no-vignettes --timings LymphoSeq_1.34.0.tar.gz StartedAt: 2025-02-05 00:15:18 -0500 (Wed, 05 Feb 2025) EndedAt: 2025-02-05 00:21:37 -0500 (Wed, 05 Feb 2025) EllapsedTime: 379.1 seconds RetCode: 0 Status: OK CheckDir: LymphoSeq.Rcheck Warnings: 0