Package: LymphoSeq Version: 1.34.0 Command: /Library/Frameworks/R.framework/Resources/bin/R CMD INSTALL LymphoSeq StartedAt: 2025-02-03 16:15:26 -0500 (Mon, 03 Feb 2025) EndedAt: 2025-02-03 16:15:47 -0500 (Mon, 03 Feb 2025) EllapsedTime: 21.2 seconds RetCode: 0 Status: OK