Package: LymphoSeq Version: 1.34.0 Command: /Library/Frameworks/R.framework/Resources/bin/R CMD INSTALL LymphoSeq StartedAt: 2025-02-10 15:44:12 -0500 (Mon, 10 Feb 2025) EndedAt: 2025-02-10 15:44:54 -0500 (Mon, 10 Feb 2025) EllapsedTime: 42.5 seconds RetCode: 0 Status: OK