Package: LymphoSeq Version: 1.34.0 Command: /home/biocbuild/bbs-3.20-bioc/R/bin/R CMD check --install=check:LymphoSeq.install-out.txt --library=/home/biocbuild/bbs-3.20-bioc/R/site-library --timings LymphoSeq_1.34.0.tar.gz StartedAt: 2025-02-03 23:42:02 -0500 (Mon, 03 Feb 2025) EndedAt: 2025-02-03 23:45:49 -0500 (Mon, 03 Feb 2025) EllapsedTime: 226.4 seconds RetCode: 0 Status: OK CheckDir: LymphoSeq.Rcheck Warnings: 0