Package: LymphoSeq Version: 1.34.0 Command: F:\biocbuild\bbs-3.20-bioc\R\bin\R.exe CMD check --no-multiarch --install=check:LymphoSeq.install-out.txt --library=F:\biocbuild\bbs-3.20-bioc\R\library --no-vignettes --timings LymphoSeq_1.34.0.tar.gz StartedAt: 2025-02-04 03:16:13 -0500 (Tue, 04 Feb 2025) EndedAt: 2025-02-04 03:20:34 -0500 (Tue, 04 Feb 2025) EllapsedTime: 260.3 seconds RetCode: 0 Status: OK CheckDir: LymphoSeq.Rcheck Warnings: 0