Package: LymphoSeq Version: 1.34.0 Command: /home/biocbuild/R/R/bin/R CMD build --keep-empty-dirs --no-resave-data LymphoSeq StartedAt: 2025-02-04 00:36:02 -0000 (Tue, 04 Feb 2025) EndedAt: 2025-02-04 00:37:21 -0000 (Tue, 04 Feb 2025) EllapsedTime: 79.0 seconds RetCode: 0 Status: OK PackageFile: LymphoSeq_1.34.0.tar.gz PackageFileSize: 1.531 MiB