Package: M3C Version: 1.28.0 Command: rm -rf M3C.buildbin-libdir && mkdir M3C.buildbin-libdir && /Users/biocbuild/BBS/utils/build-universal.sh M3C_1.28.0.tar.gz /Library/Frameworks/R.framework/Resources/bin/R M3C.buildbin-libdir StartedAt: 2025-02-05 16:27:09 -0500 (Wed, 05 Feb 2025) EndedAt: 2025-02-05 16:27:20 -0500 (Wed, 05 Feb 2025) EllapsedTime: 11.5 seconds RetCode: 0 Status: OK PackageFile: M3C_1.28.0.tgz PackageFileSize: 756.8 KiB