Package: M3C Version: 1.28.0 Command: /Library/Frameworks/R.framework/Resources/bin/R CMD build --keep-empty-dirs --no-resave-data M3C StartedAt: 2025-02-04 02:22:59 -0500 (Tue, 04 Feb 2025) EndedAt: 2025-02-04 02:23:58 -0500 (Tue, 04 Feb 2025) EllapsedTime: 59.0 seconds RetCode: 0 Status: OK PackageFile: M3C_1.28.0.tar.gz PackageFileSize: 588.7 KiB