Package: M3C Version: 1.28.0 Command: rm -rf M3C.buildbin-libdir && mkdir M3C.buildbin-libdir && /Users/biocbuild/BBS/utils/build-universal.sh M3C_1.28.0.tar.gz /Library/Frameworks/R.framework/Resources/bin/R M3C.buildbin-libdir StartedAt: 2025-02-04 13:18:30 -0500 (Tue, 04 Feb 2025) EndedAt: 2025-02-04 13:18:58 -0500 (Tue, 04 Feb 2025) EllapsedTime: 28.3 seconds RetCode: 0 Status: OK PackageFile: M3C_1.28.0.tgz PackageFileSize: 757.6 KiB