Package: M3C Version: 1.28.0 Command: /Library/Frameworks/R.framework/Resources/bin/R CMD INSTALL M3C StartedAt: 2025-02-03 15:21:11 -0500 (Mon, 03 Feb 2025) EndedAt: 2025-02-03 15:21:32 -0500 (Mon, 03 Feb 2025) EllapsedTime: 20.4 seconds RetCode: 0 Status: OK