Package: M3C Version: 1.28.0 Command: /home/biocbuild/R/R/bin/R CMD build --keep-empty-dirs --no-resave-data M3C StartedAt: 2025-02-04 00:36:18 -0000 (Tue, 04 Feb 2025) EndedAt: 2025-02-04 00:37:09 -0000 (Tue, 04 Feb 2025) EllapsedTime: 51.0 seconds RetCode: 0 Status: OK PackageFile: M3C_1.28.0.tar.gz PackageFileSize: 579.7 KiB