Package: M3Drop Version: 1.32.0 Command: /Library/Frameworks/R.framework/Resources/bin/R CMD build --keep-empty-dirs --no-resave-data M3Drop StartedAt: 2025-02-04 02:23:11 -0500 (Tue, 04 Feb 2025) EndedAt: 2025-02-04 02:25:12 -0500 (Tue, 04 Feb 2025) EllapsedTime: 120.5 seconds RetCode: 0 Status: OK PackageFile: M3Drop_1.32.0.tar.gz PackageFileSize: 12.24 MiB