Package: M3Drop Version: 1.32.0 Command: rm -rf M3Drop.buildbin-libdir && mkdir M3Drop.buildbin-libdir && /Users/biocbuild/BBS/utils/build-universal.sh M3Drop_1.32.0.tar.gz /Library/Frameworks/R.framework/Resources/bin/R M3Drop.buildbin-libdir StartedAt: 2025-02-04 13:18:32 -0500 (Tue, 04 Feb 2025) EndedAt: 2025-02-04 13:19:30 -0500 (Tue, 04 Feb 2025) EllapsedTime: 58.3 seconds RetCode: 0 Status: OK PackageFile: M3Drop_1.32.0.tgz PackageFileSize: 12.5 MiB