Package: M3Drop Version: 1.32.0 Command: /Library/Frameworks/R.framework/Resources/bin/R CMD build --keep-empty-dirs --no-resave-data M3Drop StartedAt: 2025-02-03 19:58:24 -0500 (Mon, 03 Feb 2025) EndedAt: 2025-02-03 20:01:41 -0500 (Mon, 03 Feb 2025) EllapsedTime: 196.8 seconds RetCode: 0 Status: OK PackageFile: M3Drop_1.32.0.tar.gz PackageFileSize: 12.24 MiB