Package: M3Drop Version: 1.32.0 Command: /Library/Frameworks/R.framework/Resources/bin/R CMD INSTALL M3Drop StartedAt: 2025-02-03 16:35:55 -0500 (Mon, 03 Feb 2025) EndedAt: 2025-02-03 16:36:26 -0500 (Mon, 03 Feb 2025) EllapsedTime: 31.2 seconds RetCode: 0 Status: OK