Package: M3Drop Version: 1.32.0 Command: F:\biocbuild\bbs-3.20-bioc\R\bin\R.exe CMD check --no-multiarch --install=check:M3Drop.install-out.txt --library=F:\biocbuild\bbs-3.20-bioc\R\library --no-vignettes --timings M3Drop_1.32.0.tar.gz StartedAt: 2025-02-04 03:16:24 -0500 (Tue, 04 Feb 2025) EndedAt: 2025-02-04 03:23:15 -0500 (Tue, 04 Feb 2025) EllapsedTime: 411.5 seconds RetCode: 0 Status: OK CheckDir: M3Drop.Rcheck Warnings: 0