Package: M3Drop Version: 1.32.0 Command: /home/biocbuild/R/R/bin/R CMD build --keep-empty-dirs --no-resave-data M3Drop StartedAt: 2025-02-04 00:36:27 -0000 (Tue, 04 Feb 2025) EndedAt: 2025-02-04 00:38:41 -0000 (Tue, 04 Feb 2025) EllapsedTime: 134.1 seconds RetCode: 0 Status: OK PackageFile: M3Drop_1.32.0.tar.gz PackageFileSize: 12.24 MiB