Package: MACSr Version: 1.14.0 Command: /Library/Frameworks/R.framework/Resources/bin/R CMD INSTALL MACSr StartedAt: 2025-02-03 15:41:01 -0500 (Mon, 03 Feb 2025) EndedAt: 2025-02-03 15:41:12 -0500 (Mon, 03 Feb 2025) EllapsedTime: 11.1 seconds RetCode: 0 Status: OK