Package: MACSr Version: 1.14.0 Command: /Library/Frameworks/R.framework/Resources/bin/R CMD build --keep-empty-dirs --no-resave-data MACSr StartedAt: 2025-02-03 19:59:10 -0500 (Mon, 03 Feb 2025) EndedAt: 2025-02-03 20:00:41 -0500 (Mon, 03 Feb 2025) EllapsedTime: 91.1 seconds RetCode: 0 Status: OK PackageFile: MACSr_1.14.0.tar.gz PackageFileSize: 5.112 MiB