Package: MACSr Version: 1.14.0 Command: /home/biocbuild/bbs-3.20-bioc/R/bin/R CMD check --install=check:MACSr.install-out.txt --library=/home/biocbuild/bbs-3.20-bioc/R/site-library --timings MACSr_1.14.0.tar.gz StartedAt: 2025-02-03 23:42:55 -0500 (Mon, 03 Feb 2025) EndedAt: 2025-02-03 23:46:07 -0500 (Mon, 03 Feb 2025) EllapsedTime: 191.2 seconds RetCode: 0 Status: OK CheckDir: MACSr.Rcheck Warnings: 0