Package: MACSr Version: 1.14.0 Command: /home/biocbuild/bbs-3.20-bioc/R/bin/R CMD INSTALL MACSr StartedAt: 2025-02-03 15:26:17 -0500 (Mon, 03 Feb 2025) EndedAt: 2025-02-03 15:26:36 -0500 (Mon, 03 Feb 2025) EllapsedTime: 18.4 seconds RetCode: 0 Status: OK