Package: MACSr Version: 1.14.0 Command: /home/biocbuild/R/R/bin/R CMD build --keep-empty-dirs --no-resave-data MACSr StartedAt: 2025-02-04 00:36:51 -0000 (Tue, 04 Feb 2025) EndedAt: 2025-02-04 00:37:39 -0000 (Tue, 04 Feb 2025) EllapsedTime: 48.0 seconds RetCode: 0 Status: OK PackageFile: MACSr_1.14.0.tar.gz PackageFileSize: 5.177 MiB