Package: MACSr Version: 1.14.0 Command: /home/biocbuild/R/R/bin/R CMD INSTALL MACSr StartedAt: 2025-02-03 20:38:25 -0000 (Mon, 03 Feb 2025) EndedAt: 2025-02-03 20:38:46 -0000 (Mon, 03 Feb 2025) EllapsedTime: 21.7 seconds RetCode: 0 Status: OK