Package: MADSEQ Version: 1.32.0 Command: /Library/Frameworks/R.framework/Resources/bin/R CMD check --install=check:MADSEQ.install-out.txt --library=/Library/Frameworks/R.framework/Resources/library --no-vignettes --timings MADSEQ_1.32.0.tar.gz StartedAt: 2025-02-05 00:24:29 -0500 (Wed, 05 Feb 2025) EndedAt: 2025-02-05 00:30:15 -0500 (Wed, 05 Feb 2025) EllapsedTime: 346.7 seconds RetCode: 0 Status: OK CheckDir: MADSEQ.Rcheck Warnings: 0