Package: MADSEQ Version: 1.32.0 Command: /Library/Frameworks/R.framework/Resources/bin/R CMD INSTALL MADSEQ StartedAt: 2025-02-03 16:13:21 -0500 (Mon, 03 Feb 2025) EndedAt: 2025-02-03 16:14:12 -0500 (Mon, 03 Feb 2025) EllapsedTime: 51.2 seconds RetCode: 0 Status: OK