Package: MADSEQ Version: 1.32.0 Command: /home/biocbuild/bbs-3.20-bioc/R/bin/R CMD INSTALL MADSEQ StartedAt: 2025-02-03 15:33:19 -0500 (Mon, 03 Feb 2025) EndedAt: 2025-02-03 15:34:04 -0500 (Mon, 03 Feb 2025) EllapsedTime: 44.6 seconds RetCode: 0 Status: OK